
BEGIN:VCALENDAR
VERSION:2.0
PRODID:-//Code 4 - ECPv6.15.14//NONSGML v1.0//EN
CALSCALE:GREGORIAN
METHOD:PUBLISH
X-ORIGINAL-URL:https://code4taphouse.com
X-WR-CALDESC:Events for Code 4
REFRESH-INTERVAL;VALUE=DURATION:PT1H
X-Robots-Tag:noindex
X-PUBLISHED-TTL:PT1H
BEGIN:VTIMEZONE
TZID:America/Los_Angeles
BEGIN:DAYLIGHT
TZOFFSETFROM:-0800
TZOFFSETTO:-0700
TZNAME:PDT
DTSTART:20240310T100000
END:DAYLIGHT
BEGIN:STANDARD
TZOFFSETFROM:-0700
TZOFFSETTO:-0800
TZNAME:PST
DTSTART:20241103T090000
END:STANDARD
BEGIN:DAYLIGHT
TZOFFSETFROM:-0800
TZOFFSETTO:-0700
TZNAME:PDT
DTSTART:20250309T100000
END:DAYLIGHT
BEGIN:STANDARD
TZOFFSETFROM:-0700
TZOFFSETTO:-0800
TZNAME:PST
DTSTART:20251102T090000
END:STANDARD
BEGIN:DAYLIGHT
TZOFFSETFROM:-0800
TZOFFSETTO:-0700
TZNAME:PDT
DTSTART:20260308T100000
END:DAYLIGHT
BEGIN:STANDARD
TZOFFSETFROM:-0700
TZOFFSETTO:-0800
TZNAME:PST
DTSTART:20261101T090000
END:STANDARD
BEGIN:DAYLIGHT
TZOFFSETFROM:-0800
TZOFFSETTO:-0700
TZNAME:PDT
DTSTART:20270314T100000
END:DAYLIGHT
BEGIN:STANDARD
TZOFFSETFROM:-0700
TZOFFSETTO:-0800
TZNAME:PST
DTSTART:20271107T090000
END:STANDARD
END:VTIMEZONE
BEGIN:VEVENT
DTSTART;TZID=America/Los_Angeles:20251116T100000
DTEND;TZID=America/Los_Angeles:20251116T130000
DTSTAMP:20260420T172839
CREATED:20251105T233502Z
LAST-MODIFIED:20251105T233502Z
UID:3625-1763287200-1763298000@code4taphouse.com
SUMMARY:Brunch and Vibes W/ DJ Sean Paul
DESCRIPTION:November 16 – Brunch and Vibes W/ DJ Sean Paul(10 AM – 1 PM) \nSunday Funday starts right here at Code 4!Join us for a chill brunch with DJ Sean Paul spinning smooth beats and feel-good vibes. 🍳🥂Grab a mimosa\, hit the patio\, and kick back — it’s the perfect way to wrap up the weekend in style.
URL:https://code4taphouse.com/event/brunch-and-vibes-w-dj-sean-paul/
CATEGORIES:All Events,Music
END:VEVENT
BEGIN:VEVENT
DTSTART;TZID=America/Los_Angeles:20251123T100000
DTEND;TZID=America/Los_Angeles:20251123T130000
DTSTAMP:20260420T172839
CREATED:20251105T234116Z
LAST-MODIFIED:20251105T234116Z
UID:3635-1763892000-1763902800@code4taphouse.com
SUMMARY:Brunch and Vibes W/ DJ Sean Paul
DESCRIPTION:November 23 – Brunch and Vibes W/ DJ Sean Paul(10 AM – 1 PM) \nSunday Funday starts right here at Code 4!Join us for a chill brunch with DJ Sean Paul spinning smooth beats and feel-good vibes. 🍳🥂Grab a mimosa\, hit the patio\, and kick back — it’s the perfect way to wrap up the weekend in style.
URL:https://code4taphouse.com/event/brunch-and-vibes-w-dj-sean-paul-2/
CATEGORIES:All Events,Music,Special Events
END:VEVENT
BEGIN:VEVENT
DTSTART;TZID=America/Los_Angeles:20251128T210000
DTEND;TZID=America/Los_Angeles:20251129T000000
DTSTAMP:20260420T172839
CREATED:20251105T234654Z
LAST-MODIFIED:20251105T234709Z
UID:3645-1764363600-1764374400@code4taphouse.com
SUMMARY:Friday Night Karaoke W/ Legacy Entertainment
DESCRIPTION:November 28 – Friday Night Karaoke W/ Legacy Entertainment(9 PM – 12 AM)Grab the mic and let loose — another night of karaoke fun at Code4 Taphouse.
URL:https://code4taphouse.com/event/friday-night-karaoke-w-legacy-entertainment-2/
CATEGORIES:All Events,Music
END:VEVENT
BEGIN:VEVENT
DTSTART;TZID=America/Los_Angeles:20251129T220000
DTEND;TZID=America/Los_Angeles:20251130T013000
DTSTAMP:20260420T172839
CREATED:20251105T234853Z
LAST-MODIFIED:20251105T235010Z
UID:3648-1764453600-1764466200@code4taphouse.com
SUMMARY:A Night W/DJ Fluffy
DESCRIPTION:November 29 – A Night W/DJ Fluffy \n(10 PM – 1:30AM | $10 Cover | 21+) \nGet ready to move your hips and feel the rhythm! Join us for a night full of vibrant energy\, and delicious margaritas.
URL:https://code4taphouse.com/event/a-night-w-dj-fluffy/
CATEGORIES:All Events,Club Nights,Music
END:VEVENT
BEGIN:VEVENT
DTSTART;TZID=America/Los_Angeles:20251130T100000
DTEND;TZID=America/Los_Angeles:20251130T130000
DTSTAMP:20260420T172839
CREATED:20251105T234949Z
LAST-MODIFIED:20251105T234949Z
UID:3650-1764496800-1764507600@code4taphouse.com
SUMMARY:Brunch and Vibes W/ DJ Sean Paul
DESCRIPTION:November 30 – Brunch and Vibes W/ DJ Sean Paul(10 AM – 1 PM) \nSunday Funday starts right here at Code 4!Join us for a chill brunch with DJ Sean Paul spinning smooth beats and feel-good vibes. 🍳🥂Grab a mimosa\, hit the patio\, and kick back — it’s the perfect way to wrap up the weekend in style.
URL:https://code4taphouse.com/event/brunch-and-vibes-w-dj-sean-paul-3/
CATEGORIES:All Events,Music
END:VEVENT
BEGIN:VEVENT
DTSTART;TZID=America/Los_Angeles:20251201T170000
DTEND;TZID=America/Los_Angeles:20251201T203000
DTSTAMP:20260420T172839
CREATED:20251209T003131Z
LAST-MODIFIED:20251209T004636Z
UID:3663-1764608400-1764621000@code4taphouse.com
SUMMARY:Open Mic Night with Rogue Entertainment
DESCRIPTION:Open Mic Night calling all musicians and comedians. Featured artist Bryce Pettyjohn.
URL:https://code4taphouse.com/event/__trashed-23__trashed/
CATEGORIES:All Events,Club Nights,Live Music,Music
END:VEVENT
BEGIN:VEVENT
DTSTART;TZID=America/Los_Angeles:20251208T170000
DTEND;TZID=America/Los_Angeles:20251208T203000
DTSTAMP:20260420T172839
CREATED:20251209T003120Z
LAST-MODIFIED:20251209T004636Z
UID:3664-1765213200-1765225800@code4taphouse.com
SUMMARY:Open Mic Night with Rogue Entertainment
DESCRIPTION:Open Mic Night calling all musicians and comedians. Featured artist Tristan Moonbox.
URL:https://code4taphouse.com/event/__trashed-18__trashed/
CATEGORIES:All Events,Club Nights,Live Music,Music
END:VEVENT
BEGIN:VEVENT
DTSTART;TZID=America/Los_Angeles:20251214T110000
DTEND;TZID=America/Los_Angeles:20251214T150000
DTSTAMP:20260420T172839
CREATED:20251209T003119Z
LAST-MODIFIED:20251209T004635Z
UID:3660-1765710000-1765724400@code4taphouse.com
SUMMARY:Brunch & Vibes with DJ Sean Paul
DESCRIPTION:Brunch with DJ Sean Paul for the perfect mix of beats brunch and good vibes.
URL:https://code4taphouse.com/event/__trashed-14__trashed/
CATEGORIES:All Events,Live Music,Music
END:VEVENT
BEGIN:VEVENT
DTSTART;TZID=America/Los_Angeles:20251215T170000
DTEND;TZID=America/Los_Angeles:20251215T203000
DTSTAMP:20260420T172839
CREATED:20251209T003119Z
LAST-MODIFIED:20251209T004636Z
UID:3665-1765818000-1765830600@code4taphouse.com
SUMMARY:Open Mic Night with Rogue Entertainment
DESCRIPTION:Open Mic Night calling all musicians and comedians. Featured artist Jack Hopfinger.
URL:https://code4taphouse.com/event/__trashed-13__trashed/
CATEGORIES:All Events,Club Nights,Live Music,Music
END:VEVENT
BEGIN:VEVENT
DTSTART;TZID=America/Los_Angeles:20251221T110000
DTEND;TZID=America/Los_Angeles:20251221T140000
DTSTAMP:20260420T172839
CREATED:20251209T003119Z
LAST-MODIFIED:20251209T004635Z
UID:3661-1766314800-1766325600@code4taphouse.com
SUMMARY:Brunch Karaoke with Legacy Entertainment
DESCRIPTION:Sunday karaoke with Legacy Entertainment come sip sing and start your Sunday right.
URL:https://code4taphouse.com/event/__trashed-9__trashed/
CATEGORIES:All Events,Music
END:VEVENT
BEGIN:VEVENT
DTSTART;TZID=America/Los_Angeles:20251226T210000
DTEND;TZID=America/Los_Angeles:20251227T000000
DTSTAMP:20260420T172839
CREATED:20251209T003119Z
LAST-MODIFIED:20251209T004727Z
UID:3680-1766782800-1766793600@code4taphouse.com
SUMMARY:Friday Night Karaoke with Legacy Entertainment
DESCRIPTION:Friday night karaoke grab the mic and a drink and make Friday sound good with Legacy Entertainment.
URL:https://code4taphouse.com/event/__trashed-6__trashed/
CATEGORIES:All Events,Club Nights,Music
END:VEVENT
BEGIN:VEVENT
DTSTART;TZID=America/Los_Angeles:20251228T110000
DTEND;TZID=America/Los_Angeles:20251228T140000
DTSTAMP:20260420T172839
CREATED:20251209T003119Z
LAST-MODIFIED:20251209T004635Z
UID:3662-1766919600-1766930400@code4taphouse.com
SUMMARY:Brunch Karaoke with Legacy Entertainment
DESCRIPTION:Sunday karaoke with Legacy Entertainment come sip sing and start your Sunday right.
URL:https://code4taphouse.com/event/__trashed-5__trashed/
CATEGORIES:All Events,Music
END:VEVENT
BEGIN:VEVENT
DTSTART;TZID=America/Los_Angeles:20251229T170000
DTEND;TZID=America/Los_Angeles:20251229T203000
DTSTAMP:20260420T172839
CREATED:20251209T003119Z
LAST-MODIFIED:20251209T004636Z
UID:3666-1767027600-1767040200@code4taphouse.com
SUMMARY:Open Mic Night with Rogue Entertainment
DESCRIPTION:Open Mic Night calling all musicians and comedians. Featured artist Bryan Oliver.
URL:https://code4taphouse.com/event/__trashed-4__trashed/
CATEGORIES:All Events,Club Nights,Live Music,Music
END:VEVENT
BEGIN:VEVENT
DTSTART;TZID=America/Los_Angeles:20260102T210000
DTEND;TZID=America/Los_Angeles:20260102T210000
DTSTAMP:20260420T172839
CREATED:20260102T204920Z
LAST-MODIFIED:20260102T204920Z
UID:3735-1767387600-1767387600@code4taphouse.com
SUMMARY:Friday Night Karaoke
DESCRIPTION:Kick off the weekend with Friday Night Karaoke! Grab the mic\, sing your favorites\, or cheer on your friends. Late-night energy and zero judgment.
URL:https://code4taphouse.com/event/friday-night-karaoke-3/
CATEGORIES:All Events,Club Nights,Music
END:VEVENT
BEGIN:VEVENT
DTSTART;TZID=America/Los_Angeles:20260103T210000
DTEND;TZID=America/Los_Angeles:20260103T210000
DTSTAMP:20260420T172839
CREATED:20260102T204936Z
LAST-MODIFIED:20260102T204936Z
UID:3739-1767474000-1767474000@code4taphouse.com
SUMMARY:Decades Party
DESCRIPTION:Travel through time at our Decades Party! Dress to impress in your favorite era and dance the night away to throwback hits across the decades.
URL:https://code4taphouse.com/event/decades-party/
CATEGORIES:All Events,Club Nights,Music
END:VEVENT
BEGIN:VEVENT
DTSTART;TZID=America/Los_Angeles:20260104T110000
DTEND;TZID=America/Los_Angeles:20260104T150000
DTSTAMP:20260420T172839
CREATED:20260102T204745Z
LAST-MODIFIED:20260102T204745Z
UID:3719-1767524400-1767538800@code4taphouse.com
SUMMARY:Brunch & Vibes
DESCRIPTION:Start your Sunday the right way with Brunch & Vibes — great food\, good drinks\, and feel-good music to set the tone for the day. Whether you’re catching up with friends or easing into your weekend\, this is the perfect mix of laid-back energy and lively vibes.
URL:https://code4taphouse.com/event/brunch-vibes/
CATEGORIES:All Events,Live Music,Music
END:VEVENT
BEGIN:VEVENT
DTSTART;TZID=America/Los_Angeles:20260105T170000
DTEND;TZID=America/Los_Angeles:20260105T203000
DTSTAMP:20260420T172839
CREATED:20260102T204746Z
LAST-MODIFIED:20260102T204746Z
UID:3723-1767632400-1767645000@code4taphouse.com
SUMMARY:Open Mic Night
DESCRIPTION:Calling all musicians\, comedians\, poets\, and performers! Open Mic Night is your chance to showcase your talent or support local creatives in a welcoming\, laid-back atmosphere.
URL:https://code4taphouse.com/event/open-mic-night/
CATEGORIES:All Events,Club Nights,Live Music,Music
END:VEVENT
BEGIN:VEVENT
DTSTART;TZID=America/Los_Angeles:20260109T210000
DTEND;TZID=America/Los_Angeles:20260110T000000
DTSTAMP:20260420T172839
CREATED:20260102T204920Z
LAST-MODIFIED:20260117T034722Z
UID:3736-1767992400-1768003200@code4taphouse.com
SUMMARY:Friday Night Karaoke
DESCRIPTION:Kick off the weekend with Friday Night Karaoke! Grab the mic\, sing your favorites\, or cheer on your friends. Late-night energy and zero judgment.
URL:https://code4taphouse.com/event/friday-night-karaoke-4/
CATEGORIES:All Events,Club Nights,Music
END:VEVENT
BEGIN:VEVENT
DTSTART;TZID=America/Los_Angeles:20260111T110000
DTEND;TZID=America/Los_Angeles:20260111T140000
DTSTAMP:20260420T172839
CREATED:20260102T204745Z
LAST-MODIFIED:20260102T204745Z
UID:3721-1768129200-1768140000@code4taphouse.com
SUMMARY:Brunch Karaoke
DESCRIPTION:Sing it loud and sing it proud at Brunch Karaoke! Enjoy brunch favorites while grabbing the mic for your favorite hits. No pressure\, just good food\, great company\, and a whole lot of fun.
URL:https://code4taphouse.com/event/brunch-karaoke/
CATEGORIES:All Events,Music
END:VEVENT
BEGIN:VEVENT
DTSTART;TZID=America/Los_Angeles:20260112T170000
DTEND;TZID=America/Los_Angeles:20260112T203000
DTSTAMP:20260420T172839
CREATED:20260102T204747Z
LAST-MODIFIED:20260102T204747Z
UID:3724-1768237200-1768249800@code4taphouse.com
SUMMARY:Open Mic Night
DESCRIPTION:Calling all musicians\, comedians\, poets\, and performers! Open Mic Night is your chance to showcase your talent or support local creatives in a welcoming\, laid-back atmosphere.
URL:https://code4taphouse.com/event/open-mic-night-2/
CATEGORIES:All Events,Club Nights,Live Music,Music
END:VEVENT
BEGIN:VEVENT
DTSTART;TZID=America/Los_Angeles:20260116T210000
DTEND;TZID=America/Los_Angeles:20260117T000000
DTSTAMP:20260420T172839
CREATED:20260102T204920Z
LAST-MODIFIED:20260117T034945Z
UID:3737-1768597200-1768608000@code4taphouse.com
SUMMARY:Friday Night Karaoke
DESCRIPTION:Kick off the weekend with Friday Night Karaoke! Grab the mic\, sing your favorites\, or cheer on your friends. Late-night energy and zero judgment.
URL:https://code4taphouse.com/event/friday-night-karaoke-5/
CATEGORIES:All Events,Club Nights,Music
END:VEVENT
BEGIN:VEVENT
DTSTART;TZID=America/Los_Angeles:20260117T210000
DTEND;TZID=America/Los_Angeles:20260117T210000
DTSTAMP:20260420T172839
CREATED:20260102T204936Z
LAST-MODIFIED:20260102T204936Z
UID:3740-1768683600-1768683600@code4taphouse.com
SUMMARY:80s/90s Throwback Night
DESCRIPTION:Break out the neon\, denim\, and throwback jams for 80s / 90s Throwback Night! From pop classics to hip-hop favorites\, it’s a nonstop nostalgia party.
URL:https://code4taphouse.com/event/80s-90s-throwback-night/
CATEGORIES:All Events,Club Nights,Music
END:VEVENT
BEGIN:VEVENT
DTSTART;TZID=America/Los_Angeles:20260118T110000
DTEND;TZID=America/Los_Angeles:20260118T140000
DTSTAMP:20260420T172839
CREATED:20260102T204746Z
LAST-MODIFIED:20260102T204746Z
UID:3722-1768734000-1768744800@code4taphouse.com
SUMMARY:Brunch Karaoke
DESCRIPTION:Sing it loud and sing it proud at Brunch Karaoke! Enjoy brunch favorites while grabbing the mic for your favorite hits. No pressure\, just good food\, great company\, and a whole lot of fun.
URL:https://code4taphouse.com/event/brunch-karaoke-2/
CATEGORIES:All Events,Music
END:VEVENT
BEGIN:VEVENT
DTSTART;TZID=America/Los_Angeles:20260119T170000
DTEND;TZID=America/Los_Angeles:20260119T203000
DTSTAMP:20260420T172839
CREATED:20260102T204747Z
LAST-MODIFIED:20260102T204747Z
UID:3725-1768842000-1768854600@code4taphouse.com
SUMMARY:Open Mic Night
DESCRIPTION:Calling all musicians\, comedians\, poets\, and performers! Open Mic Night is your chance to showcase your talent or support local creatives in a welcoming\, laid-back atmosphere.
URL:https://code4taphouse.com/event/open-mic-night-3/
CATEGORIES:All Events,Club Nights,Live Music,Music
END:VEVENT
BEGIN:VEVENT
DTSTART;TZID=America/Los_Angeles:20260125T110000
DTEND;TZID=America/Los_Angeles:20260125T150000
DTSTAMP:20260420T172839
CREATED:20260102T204745Z
LAST-MODIFIED:20260102T204745Z
UID:3720-1769338800-1769353200@code4taphouse.com
SUMMARY:Brunch & Vibes
DESCRIPTION:Start your Sunday the right way with Brunch & Vibes — great food\, good drinks\, and feel-good music to set the tone for the day. Whether you’re catching up with friends or easing into your weekend\, this is the perfect mix of laid-back energy and lively vibes.
URL:https://code4taphouse.com/event/brunch-vibes-2/
CATEGORIES:All Events,Live Music,Music
END:VEVENT
BEGIN:VEVENT
DTSTART;TZID=America/Los_Angeles:20260126T170000
DTEND;TZID=America/Los_Angeles:20260126T203000
DTSTAMP:20260420T172839
CREATED:20260102T204747Z
LAST-MODIFIED:20260102T204747Z
UID:3726-1769446800-1769459400@code4taphouse.com
SUMMARY:Open Mic Night
DESCRIPTION:Calling all musicians\, comedians\, poets\, and performers! Open Mic Night is your chance to showcase your talent or support local creatives in a welcoming\, laid-back atmosphere.
URL:https://code4taphouse.com/event/open-mic-night-4/
CATEGORIES:All Events,Club Nights,Live Music,Music
END:VEVENT
BEGIN:VEVENT
DTSTART;TZID=America/Los_Angeles:20260130T210000
DTEND;TZID=America/Los_Angeles:20260131T000000
DTSTAMP:20260420T172839
CREATED:20260102T204920Z
LAST-MODIFIED:20260117T034655Z
UID:3738-1769806800-1769817600@code4taphouse.com
SUMMARY:Friday Night Karaoke
DESCRIPTION:Kick off the weekend with Friday Night Karaoke! Grab the mic\, sing your favorites\, or cheer on your friends. Late-night energy and zero judgment.
URL:https://code4taphouse.com/event/friday-night-karaoke-6/
CATEGORIES:All Events,Club Nights,Music
END:VEVENT
BEGIN:VEVENT
DTSTART;TZID=America/Los_Angeles:20260131T210000
DTEND;TZID=America/Los_Angeles:20260131T210000
DTSTAMP:20260420T172839
CREATED:20260102T204936Z
LAST-MODIFIED:20260102T204936Z
UID:3741-1769893200-1769893200@code4taphouse.com
SUMMARY:Cody Ponder Takeover
DESCRIPTION:Don’t miss the Cody Ponder Takeover — a high-energy DJ night bringing fresh sounds and nonstop vibes to the dance floor.
URL:https://code4taphouse.com/event/cody-ponder-takeover/
CATEGORIES:All Events,Club Nights,Music
END:VEVENT
BEGIN:VEVENT
DTSTART;TZID=America/Los_Angeles:20260201T110000
DTEND;TZID=America/Los_Angeles:20260201T150000
DTSTAMP:20260420T172839
CREATED:20260201T191924Z
LAST-MODIFIED:20260201T191924Z
UID:3762-1769943600-1769958000@code4taphouse.com
SUMMARY:Brunch and Vibes w/ DJ Sean Paul
DESCRIPTION:Brunch and Vibes is back with DJ Sean Paul—great brunch\, refreshing drinks\, and feel‑good beats all afternoon. Bring your crew and make your Sunday a vibe.
URL:https://code4taphouse.com/event/brunch-and-vibes-w-dj-sean-paul-4/
CATEGORIES:All Events,Live Music,Music
END:VEVENT
BEGIN:VEVENT
DTSTART;TZID=America/Los_Angeles:20260202T170000
DTEND;TZID=America/Los_Angeles:20260202T200000
DTSTAMP:20260420T172839
CREATED:20260201T191924Z
LAST-MODIFIED:20260201T191924Z
UID:3763-1770051600-1770062400@code4taphouse.com
SUMMARY:Open Mic Night w/ featured artist JR “Old Dog” Stevens
DESCRIPTION:Open Mic Night with featured artist JR “Old Dog” Stevens. Sign-ups start at 5:00pm; Open Mic runs 5:30–8:00pm.
URL:https://code4taphouse.com/event/open-mic-night-w-featured-artist-jr-old-dog-stevens/
CATEGORIES:All Events,Club Nights,Live Music,Music
END:VEVENT
END:VCALENDAR